BEGIN:VCALENDAR
VERSION:2.0
PRODID:-//Unity Church of Christ in Maywood - ECPv6.15.20//NONSGML v1.0//EN
CALSCALE:GREGORIAN
METHOD:PUBLISH
X-WR-CALNAME:Unity Church of Christ in Maywood
X-ORIGINAL-URL:https://unitymaywood.org
X-WR-CALDESC:Events for Unity Church of Christ in Maywood
REFRESH-INTERVAL;VALUE=DURATION:PT1H
X-Robots-Tag:noindex
X-PUBLISHED-TTL:PT1H
BEGIN:VTIMEZONE
TZID:America/New_York
BEGIN:DAYLIGHT
TZOFFSETFROM:-0500
TZOFFSETTO:-0400
TZNAME:EDT
DTSTART:20250309T070000
END:DAYLIGHT
BEGIN:STANDARD
TZOFFSETFROM:-0400
TZOFFSETTO:-0500
TZNAME:EST
DTSTART:20251102T060000
END:STANDARD
BEGIN:DAYLIGHT
TZOFFSETFROM:-0500
TZOFFSETTO:-0400
TZNAME:EDT
DTSTART:20260308T070000
END:DAYLIGHT
BEGIN:STANDARD
TZOFFSETFROM:-0400
TZOFFSETTO:-0500
TZNAME:EST
DTSTART:20261101T060000
END:STANDARD
BEGIN:DAYLIGHT
TZOFFSETFROM:-0500
TZOFFSETTO:-0400
TZNAME:EDT
DTSTART:20270314T070000
END:DAYLIGHT
BEGIN:STANDARD
TZOFFSETFROM:-0400
TZOFFSETTO:-0500
TZNAME:EST
DTSTART:20271107T060000
END:STANDARD
END:VTIMEZONE
BEGIN:VEVENT
DTSTART;TZID=America/New_York:20260621T100000
DTEND;TZID=America/New_York:20260621T100000
DTSTAMP:20260424T123753
CREATED:20250821T152312Z
LAST-MODIFIED:20250904T164029Z
UID:10002955-1782036000-1782036000@unitymaywood.org
SUMMARY:SUNDAY SERVICE
DESCRIPTION:Please join us for Sunday Service with Dr. Rev. Bessie Duncan
URL:https://unitymaywood.org/event/sunday-service/2026-06-21/
CATEGORIES:Announcements,Events,Featured Events
END:VEVENT
BEGIN:VEVENT
DTSTART;TZID=America/New_York:20260624T183000
DTEND;TZID=America/New_York:20260624T190000
DTSTAMP:20260424T123753
CREATED:20241217T003333Z
LAST-MODIFIED:20250115T023021Z
UID:10001061-1782325800-1782327600@unitymaywood.org
SUMMARY:Wednesday Night Meditation
DESCRIPTION:Prayer\, Healing & Meditation Service Weekley on (Zoom) at: 6:00PM
URL:https://unitymaywood.org/event/wednesday-night-meditation/2026-06-24/
CATEGORIES:Classes and Workshops
END:VEVENT
BEGIN:VEVENT
DTSTART;TZID=America/New_York:20260624T190000
DTEND;TZID=America/New_York:20260624T203000
DTSTAMP:20260424T123753
CREATED:20260204T155131Z
LAST-MODIFIED:20260204T155141Z
UID:10002694-1782327600-1782333000@unitymaywood.org
SUMMARY:Wednesday Bible Class
DESCRIPTION:FUN WITH THE BIBLE \n\n\n\n\n\n\n\nWe study it for the wonderful information\, instructions for living well and the sense of how people were seen to live then.  \n\n\n\nBut first and foremost there is God’s WORD to enlighten us.  The colorful essence of the period covered in the Bible helps us see the historical inferences. There are amazing stories throughout about courageous women\, men and children.  \n\n\n\nThere is an energy and more DIVINE MESSAGES\, PARABLES and EXPERIENCES of JESUS in “CE”\, the CHRISTIAN ERA of the Bible which we use to call The New Testament. If you still call it that\, come to Bible Class and learn why it changed.  \n\n\n\nWe also take a particularly independent look at the Bible through the writings of our Co-Founder\, Charles Filmore. You talk about fascinating metaphysical interpretations\, it brings another dimension to Class.  \n\n\n\nWell there is much more\, such as personal spiritual growth in this exploration but it would be better understood  if you experience it for yourself.  Join us won’t you. God Bless You. \n\n\n\n“Greater is He who is within you than he who is in the world”. 1 John 4:4 (Berean Study Bible)
URL:https://unitymaywood.org/event/wednesday-bible-class/2026-06-24/
CATEGORIES:Announcements,Classes and Workshops,Events,Featured Events
END:VEVENT
BEGIN:VEVENT
DTSTART;TZID=America/New_York:20260628T100000
DTEND;TZID=America/New_York:20260628T100000
DTSTAMP:20260424T123753
CREATED:20250821T152312Z
LAST-MODIFIED:20250904T164029Z
UID:10002956-1782640800-1782640800@unitymaywood.org
SUMMARY:SUNDAY SERVICE
DESCRIPTION:Please join us for Sunday Service with Dr. Rev. Bessie Duncan
URL:https://unitymaywood.org/event/sunday-service/2026-06-28/
CATEGORIES:Announcements,Events,Featured Events
END:VEVENT
BEGIN:VEVENT
DTSTART;TZID=America/New_York:20260701T183000
DTEND;TZID=America/New_York:20260701T190000
DTSTAMP:20260424T123753
CREATED:20241217T003333Z
LAST-MODIFIED:20250115T023021Z
UID:10001062-1782930600-1782932400@unitymaywood.org
SUMMARY:Wednesday Night Meditation
DESCRIPTION:Prayer\, Healing & Meditation Service Weekley on (Zoom) at: 6:00PM
URL:https://unitymaywood.org/event/wednesday-night-meditation/2026-07-01/
CATEGORIES:Classes and Workshops
END:VEVENT
BEGIN:VEVENT
DTSTART;TZID=America/New_York:20260701T190000
DTEND;TZID=America/New_York:20260701T203000
DTSTAMP:20260424T123753
CREATED:20260204T155131Z
LAST-MODIFIED:20260204T155141Z
UID:10002695-1782932400-1782937800@unitymaywood.org
SUMMARY:Wednesday Bible Class
DESCRIPTION:FUN WITH THE BIBLE \n\n\n\n\n\n\n\nWe study it for the wonderful information\, instructions for living well and the sense of how people were seen to live then.  \n\n\n\nBut first and foremost there is God’s WORD to enlighten us.  The colorful essence of the period covered in the Bible helps us see the historical inferences. There are amazing stories throughout about courageous women\, men and children.  \n\n\n\nThere is an energy and more DIVINE MESSAGES\, PARABLES and EXPERIENCES of JESUS in “CE”\, the CHRISTIAN ERA of the Bible which we use to call The New Testament. If you still call it that\, come to Bible Class and learn why it changed.  \n\n\n\nWe also take a particularly independent look at the Bible through the writings of our Co-Founder\, Charles Filmore. You talk about fascinating metaphysical interpretations\, it brings another dimension to Class.  \n\n\n\nWell there is much more\, such as personal spiritual growth in this exploration but it would be better understood  if you experience it for yourself.  Join us won’t you. God Bless You. \n\n\n\n“Greater is He who is within you than he who is in the world”. 1 John 4:4 (Berean Study Bible)
URL:https://unitymaywood.org/event/wednesday-bible-class/2026-07-01/
CATEGORIES:Announcements,Classes and Workshops,Events,Featured Events
END:VEVENT
BEGIN:VEVENT
DTSTART;TZID=America/New_York:20260705T100000
DTEND;TZID=America/New_York:20260705T100000
DTSTAMP:20260424T123753
CREATED:20250821T152312Z
LAST-MODIFIED:20250904T164029Z
UID:10002957-1783245600-1783245600@unitymaywood.org
SUMMARY:SUNDAY SERVICE
DESCRIPTION:Please join us for Sunday Service with Dr. Rev. Bessie Duncan
URL:https://unitymaywood.org/event/sunday-service/2026-07-05/
CATEGORIES:Announcements,Events,Featured Events
END:VEVENT
BEGIN:VEVENT
DTSTART;TZID=America/New_York:20260708T183000
DTEND;TZID=America/New_York:20260708T190000
DTSTAMP:20260424T123753
CREATED:20241217T003333Z
LAST-MODIFIED:20250115T023021Z
UID:10001063-1783535400-1783537200@unitymaywood.org
SUMMARY:Wednesday Night Meditation
DESCRIPTION:Prayer\, Healing & Meditation Service Weekley on (Zoom) at: 6:00PM
URL:https://unitymaywood.org/event/wednesday-night-meditation/2026-07-08/
CATEGORIES:Classes and Workshops
END:VEVENT
BEGIN:VEVENT
DTSTART;TZID=America/New_York:20260708T190000
DTEND;TZID=America/New_York:20260708T203000
DTSTAMP:20260424T123753
CREATED:20260204T155131Z
LAST-MODIFIED:20260204T155141Z
UID:10002696-1783537200-1783542600@unitymaywood.org
SUMMARY:Wednesday Bible Class
DESCRIPTION:FUN WITH THE BIBLE \n\n\n\n\n\n\n\nWe study it for the wonderful information\, instructions for living well and the sense of how people were seen to live then.  \n\n\n\nBut first and foremost there is God’s WORD to enlighten us.  The colorful essence of the period covered in the Bible helps us see the historical inferences. There are amazing stories throughout about courageous women\, men and children.  \n\n\n\nThere is an energy and more DIVINE MESSAGES\, PARABLES and EXPERIENCES of JESUS in “CE”\, the CHRISTIAN ERA of the Bible which we use to call The New Testament. If you still call it that\, come to Bible Class and learn why it changed.  \n\n\n\nWe also take a particularly independent look at the Bible through the writings of our Co-Founder\, Charles Filmore. You talk about fascinating metaphysical interpretations\, it brings another dimension to Class.  \n\n\n\nWell there is much more\, such as personal spiritual growth in this exploration but it would be better understood  if you experience it for yourself.  Join us won’t you. God Bless You. \n\n\n\n“Greater is He who is within you than he who is in the world”. 1 John 4:4 (Berean Study Bible)
URL:https://unitymaywood.org/event/wednesday-bible-class/2026-07-08/
CATEGORIES:Announcements,Classes and Workshops,Events,Featured Events
END:VEVENT
BEGIN:VEVENT
DTSTART;TZID=America/New_York:20260712T100000
DTEND;TZID=America/New_York:20260712T100000
DTSTAMP:20260424T123753
CREATED:20250821T152312Z
LAST-MODIFIED:20250904T164029Z
UID:10002958-1783850400-1783850400@unitymaywood.org
SUMMARY:SUNDAY SERVICE
DESCRIPTION:Please join us for Sunday Service with Dr. Rev. Bessie Duncan
URL:https://unitymaywood.org/event/sunday-service/2026-07-12/
CATEGORIES:Announcements,Events,Featured Events
END:VEVENT
BEGIN:VEVENT
DTSTART;TZID=America/New_York:20260715T183000
DTEND;TZID=America/New_York:20260715T190000
DTSTAMP:20260424T123753
CREATED:20241217T003333Z
LAST-MODIFIED:20250115T023021Z
UID:10001064-1784140200-1784142000@unitymaywood.org
SUMMARY:Wednesday Night Meditation
DESCRIPTION:Prayer\, Healing & Meditation Service Weekley on (Zoom) at: 6:00PM
URL:https://unitymaywood.org/event/wednesday-night-meditation/2026-07-15/
CATEGORIES:Classes and Workshops
END:VEVENT
BEGIN:VEVENT
DTSTART;TZID=America/New_York:20260715T190000
DTEND;TZID=America/New_York:20260715T203000
DTSTAMP:20260424T123753
CREATED:20260204T155131Z
LAST-MODIFIED:20260204T155141Z
UID:10002697-1784142000-1784147400@unitymaywood.org
SUMMARY:Wednesday Bible Class
DESCRIPTION:FUN WITH THE BIBLE \n\n\n\n\n\n\n\nWe study it for the wonderful information\, instructions for living well and the sense of how people were seen to live then.  \n\n\n\nBut first and foremost there is God’s WORD to enlighten us.  The colorful essence of the period covered in the Bible helps us see the historical inferences. There are amazing stories throughout about courageous women\, men and children.  \n\n\n\nThere is an energy and more DIVINE MESSAGES\, PARABLES and EXPERIENCES of JESUS in “CE”\, the CHRISTIAN ERA of the Bible which we use to call The New Testament. If you still call it that\, come to Bible Class and learn why it changed.  \n\n\n\nWe also take a particularly independent look at the Bible through the writings of our Co-Founder\, Charles Filmore. You talk about fascinating metaphysical interpretations\, it brings another dimension to Class.  \n\n\n\nWell there is much more\, such as personal spiritual growth in this exploration but it would be better understood  if you experience it for yourself.  Join us won’t you. God Bless You. \n\n\n\n“Greater is He who is within you than he who is in the world”. 1 John 4:4 (Berean Study Bible)
URL:https://unitymaywood.org/event/wednesday-bible-class/2026-07-15/
CATEGORIES:Announcements,Classes and Workshops,Events,Featured Events
END:VEVENT
BEGIN:VEVENT
DTSTART;TZID=America/New_York:20260719T100000
DTEND;TZID=America/New_York:20260719T100000
DTSTAMP:20260424T123753
CREATED:20250821T152312Z
LAST-MODIFIED:20250904T164029Z
UID:10002959-1784455200-1784455200@unitymaywood.org
SUMMARY:SUNDAY SERVICE
DESCRIPTION:Please join us for Sunday Service with Dr. Rev. Bessie Duncan
URL:https://unitymaywood.org/event/sunday-service/2026-07-19/
CATEGORIES:Announcements,Events,Featured Events
END:VEVENT
BEGIN:VEVENT
DTSTART;TZID=America/New_York:20260722T183000
DTEND;TZID=America/New_York:20260722T190000
DTSTAMP:20260424T123753
CREATED:20241217T003333Z
LAST-MODIFIED:20250115T023021Z
UID:10001065-1784745000-1784746800@unitymaywood.org
SUMMARY:Wednesday Night Meditation
DESCRIPTION:Prayer\, Healing & Meditation Service Weekley on (Zoom) at: 6:00PM
URL:https://unitymaywood.org/event/wednesday-night-meditation/2026-07-22/
CATEGORIES:Classes and Workshops
END:VEVENT
BEGIN:VEVENT
DTSTART;TZID=America/New_York:20260722T190000
DTEND;TZID=America/New_York:20260722T203000
DTSTAMP:20260424T123753
CREATED:20260204T155131Z
LAST-MODIFIED:20260204T155141Z
UID:10002698-1784746800-1784752200@unitymaywood.org
SUMMARY:Wednesday Bible Class
DESCRIPTION:FUN WITH THE BIBLE \n\n\n\n\n\n\n\nWe study it for the wonderful information\, instructions for living well and the sense of how people were seen to live then.  \n\n\n\nBut first and foremost there is God’s WORD to enlighten us.  The colorful essence of the period covered in the Bible helps us see the historical inferences. There are amazing stories throughout about courageous women\, men and children.  \n\n\n\nThere is an energy and more DIVINE MESSAGES\, PARABLES and EXPERIENCES of JESUS in “CE”\, the CHRISTIAN ERA of the Bible which we use to call The New Testament. If you still call it that\, come to Bible Class and learn why it changed.  \n\n\n\nWe also take a particularly independent look at the Bible through the writings of our Co-Founder\, Charles Filmore. You talk about fascinating metaphysical interpretations\, it brings another dimension to Class.  \n\n\n\nWell there is much more\, such as personal spiritual growth in this exploration but it would be better understood  if you experience it for yourself.  Join us won’t you. God Bless You. \n\n\n\n“Greater is He who is within you than he who is in the world”. 1 John 4:4 (Berean Study Bible)
URL:https://unitymaywood.org/event/wednesday-bible-class/2026-07-22/
CATEGORIES:Announcements,Classes and Workshops,Events,Featured Events
END:VEVENT
BEGIN:VEVENT
DTSTART;TZID=America/New_York:20260726T100000
DTEND;TZID=America/New_York:20260726T100000
DTSTAMP:20260424T123753
CREATED:20250821T152312Z
LAST-MODIFIED:20250904T164029Z
UID:10002960-1785060000-1785060000@unitymaywood.org
SUMMARY:SUNDAY SERVICE
DESCRIPTION:Please join us for Sunday Service with Dr. Rev. Bessie Duncan
URL:https://unitymaywood.org/event/sunday-service/2026-07-26/
CATEGORIES:Announcements,Events,Featured Events
END:VEVENT
BEGIN:VEVENT
DTSTART;TZID=America/New_York:20260729T183000
DTEND;TZID=America/New_York:20260729T190000
DTSTAMP:20260424T123753
CREATED:20241217T003333Z
LAST-MODIFIED:20250115T023021Z
UID:10001066-1785349800-1785351600@unitymaywood.org
SUMMARY:Wednesday Night Meditation
DESCRIPTION:Prayer\, Healing & Meditation Service Weekley on (Zoom) at: 6:00PM
URL:https://unitymaywood.org/event/wednesday-night-meditation/2026-07-29/
CATEGORIES:Classes and Workshops
END:VEVENT
BEGIN:VEVENT
DTSTART;TZID=America/New_York:20260729T190000
DTEND;TZID=America/New_York:20260729T203000
DTSTAMP:20260424T123753
CREATED:20260204T155131Z
LAST-MODIFIED:20260204T155141Z
UID:10002699-1785351600-1785357000@unitymaywood.org
SUMMARY:Wednesday Bible Class
DESCRIPTION:FUN WITH THE BIBLE \n\n\n\n\n\n\n\nWe study it for the wonderful information\, instructions for living well and the sense of how people were seen to live then.  \n\n\n\nBut first and foremost there is God’s WORD to enlighten us.  The colorful essence of the period covered in the Bible helps us see the historical inferences. There are amazing stories throughout about courageous women\, men and children.  \n\n\n\nThere is an energy and more DIVINE MESSAGES\, PARABLES and EXPERIENCES of JESUS in “CE”\, the CHRISTIAN ERA of the Bible which we use to call The New Testament. If you still call it that\, come to Bible Class and learn why it changed.  \n\n\n\nWe also take a particularly independent look at the Bible through the writings of our Co-Founder\, Charles Filmore. You talk about fascinating metaphysical interpretations\, it brings another dimension to Class.  \n\n\n\nWell there is much more\, such as personal spiritual growth in this exploration but it would be better understood  if you experience it for yourself.  Join us won’t you. God Bless You. \n\n\n\n“Greater is He who is within you than he who is in the world”. 1 John 4:4 (Berean Study Bible)
URL:https://unitymaywood.org/event/wednesday-bible-class/2026-07-29/
CATEGORIES:Announcements,Classes and Workshops,Events,Featured Events
END:VEVENT
BEGIN:VEVENT
DTSTART;TZID=America/New_York:20260802T100000
DTEND;TZID=America/New_York:20260802T100000
DTSTAMP:20260424T123753
CREATED:20250821T152312Z
LAST-MODIFIED:20250904T164029Z
UID:10002961-1785664800-1785664800@unitymaywood.org
SUMMARY:SUNDAY SERVICE
DESCRIPTION:Please join us for Sunday Service with Dr. Rev. Bessie Duncan
URL:https://unitymaywood.org/event/sunday-service/2026-08-02/
CATEGORIES:Announcements,Events,Featured Events
END:VEVENT
BEGIN:VEVENT
DTSTART;TZID=America/New_York:20260805T183000
DTEND;TZID=America/New_York:20260805T190000
DTSTAMP:20260424T123753
CREATED:20241217T003333Z
LAST-MODIFIED:20250115T023021Z
UID:10001067-1785954600-1785956400@unitymaywood.org
SUMMARY:Wednesday Night Meditation
DESCRIPTION:Prayer\, Healing & Meditation Service Weekley on (Zoom) at: 6:00PM
URL:https://unitymaywood.org/event/wednesday-night-meditation/2026-08-05/
CATEGORIES:Classes and Workshops
END:VEVENT
BEGIN:VEVENT
DTSTART;TZID=America/New_York:20260805T190000
DTEND;TZID=America/New_York:20260805T203000
DTSTAMP:20260424T123753
CREATED:20260204T155131Z
LAST-MODIFIED:20260204T155141Z
UID:10002700-1785956400-1785961800@unitymaywood.org
SUMMARY:Wednesday Bible Class
DESCRIPTION:FUN WITH THE BIBLE \n\n\n\n\n\n\n\nWe study it for the wonderful information\, instructions for living well and the sense of how people were seen to live then.  \n\n\n\nBut first and foremost there is God’s WORD to enlighten us.  The colorful essence of the period covered in the Bible helps us see the historical inferences. There are amazing stories throughout about courageous women\, men and children.  \n\n\n\nThere is an energy and more DIVINE MESSAGES\, PARABLES and EXPERIENCES of JESUS in “CE”\, the CHRISTIAN ERA of the Bible which we use to call The New Testament. If you still call it that\, come to Bible Class and learn why it changed.  \n\n\n\nWe also take a particularly independent look at the Bible through the writings of our Co-Founder\, Charles Filmore. You talk about fascinating metaphysical interpretations\, it brings another dimension to Class.  \n\n\n\nWell there is much more\, such as personal spiritual growth in this exploration but it would be better understood  if you experience it for yourself.  Join us won’t you. God Bless You. \n\n\n\n“Greater is He who is within you than he who is in the world”. 1 John 4:4 (Berean Study Bible)
URL:https://unitymaywood.org/event/wednesday-bible-class/2026-08-05/
CATEGORIES:Announcements,Classes and Workshops,Events,Featured Events
END:VEVENT
BEGIN:VEVENT
DTSTART;TZID=America/New_York:20260809T100000
DTEND;TZID=America/New_York:20260809T100000
DTSTAMP:20260424T123753
CREATED:20250821T152312Z
LAST-MODIFIED:20250904T164029Z
UID:10002962-1786269600-1786269600@unitymaywood.org
SUMMARY:SUNDAY SERVICE
DESCRIPTION:Please join us for Sunday Service with Dr. Rev. Bessie Duncan
URL:https://unitymaywood.org/event/sunday-service/2026-08-09/
CATEGORIES:Announcements,Events,Featured Events
END:VEVENT
BEGIN:VEVENT
DTSTART;TZID=America/New_York:20260812T183000
DTEND;TZID=America/New_York:20260812T190000
DTSTAMP:20260424T123753
CREATED:20241217T003333Z
LAST-MODIFIED:20250115T023021Z
UID:10001068-1786559400-1786561200@unitymaywood.org
SUMMARY:Wednesday Night Meditation
DESCRIPTION:Prayer\, Healing & Meditation Service Weekley on (Zoom) at: 6:00PM
URL:https://unitymaywood.org/event/wednesday-night-meditation/2026-08-12/
CATEGORIES:Classes and Workshops
END:VEVENT
BEGIN:VEVENT
DTSTART;TZID=America/New_York:20260812T190000
DTEND;TZID=America/New_York:20260812T203000
DTSTAMP:20260424T123753
CREATED:20260204T155131Z
LAST-MODIFIED:20260204T155141Z
UID:10002701-1786561200-1786566600@unitymaywood.org
SUMMARY:Wednesday Bible Class
DESCRIPTION:FUN WITH THE BIBLE \n\n\n\n\n\n\n\nWe study it for the wonderful information\, instructions for living well and the sense of how people were seen to live then.  \n\n\n\nBut first and foremost there is God’s WORD to enlighten us.  The colorful essence of the period covered in the Bible helps us see the historical inferences. There are amazing stories throughout about courageous women\, men and children.  \n\n\n\nThere is an energy and more DIVINE MESSAGES\, PARABLES and EXPERIENCES of JESUS in “CE”\, the CHRISTIAN ERA of the Bible which we use to call The New Testament. If you still call it that\, come to Bible Class and learn why it changed.  \n\n\n\nWe also take a particularly independent look at the Bible through the writings of our Co-Founder\, Charles Filmore. You talk about fascinating metaphysical interpretations\, it brings another dimension to Class.  \n\n\n\nWell there is much more\, such as personal spiritual growth in this exploration but it would be better understood  if you experience it for yourself.  Join us won’t you. God Bless You. \n\n\n\n“Greater is He who is within you than he who is in the world”. 1 John 4:4 (Berean Study Bible)
URL:https://unitymaywood.org/event/wednesday-bible-class/2026-08-12/
CATEGORIES:Announcements,Classes and Workshops,Events,Featured Events
END:VEVENT
BEGIN:VEVENT
DTSTART;TZID=America/New_York:20260816T100000
DTEND;TZID=America/New_York:20260816T100000
DTSTAMP:20260424T123753
CREATED:20250821T152312Z
LAST-MODIFIED:20250904T164029Z
UID:10002963-1786874400-1786874400@unitymaywood.org
SUMMARY:SUNDAY SERVICE
DESCRIPTION:Please join us for Sunday Service with Dr. Rev. Bessie Duncan
URL:https://unitymaywood.org/event/sunday-service/2026-08-16/
CATEGORIES:Announcements,Events,Featured Events
END:VEVENT
BEGIN:VEVENT
DTSTART;TZID=America/New_York:20260819T183000
DTEND;TZID=America/New_York:20260819T190000
DTSTAMP:20260424T123753
CREATED:20241217T003333Z
LAST-MODIFIED:20250115T023021Z
UID:10001069-1787164200-1787166000@unitymaywood.org
SUMMARY:Wednesday Night Meditation
DESCRIPTION:Prayer\, Healing & Meditation Service Weekley on (Zoom) at: 6:00PM
URL:https://unitymaywood.org/event/wednesday-night-meditation/2026-08-19/
CATEGORIES:Classes and Workshops
END:VEVENT
BEGIN:VEVENT
DTSTART;TZID=America/New_York:20260819T190000
DTEND;TZID=America/New_York:20260819T203000
DTSTAMP:20260424T123753
CREATED:20260204T155131Z
LAST-MODIFIED:20260204T155141Z
UID:10002702-1787166000-1787171400@unitymaywood.org
SUMMARY:Wednesday Bible Class
DESCRIPTION:FUN WITH THE BIBLE \n\n\n\n\n\n\n\nWe study it for the wonderful information\, instructions for living well and the sense of how people were seen to live then.  \n\n\n\nBut first and foremost there is God’s WORD to enlighten us.  The colorful essence of the period covered in the Bible helps us see the historical inferences. There are amazing stories throughout about courageous women\, men and children.  \n\n\n\nThere is an energy and more DIVINE MESSAGES\, PARABLES and EXPERIENCES of JESUS in “CE”\, the CHRISTIAN ERA of the Bible which we use to call The New Testament. If you still call it that\, come to Bible Class and learn why it changed.  \n\n\n\nWe also take a particularly independent look at the Bible through the writings of our Co-Founder\, Charles Filmore. You talk about fascinating metaphysical interpretations\, it brings another dimension to Class.  \n\n\n\nWell there is much more\, such as personal spiritual growth in this exploration but it would be better understood  if you experience it for yourself.  Join us won’t you. God Bless You. \n\n\n\n“Greater is He who is within you than he who is in the world”. 1 John 4:4 (Berean Study Bible)
URL:https://unitymaywood.org/event/wednesday-bible-class/2026-08-19/
CATEGORIES:Announcements,Classes and Workshops,Events,Featured Events
END:VEVENT
BEGIN:VEVENT
DTSTART;TZID=America/New_York:20260823T100000
DTEND;TZID=America/New_York:20260823T100000
DTSTAMP:20260424T123753
CREATED:20250821T152312Z
LAST-MODIFIED:20250904T164029Z
UID:10002964-1787479200-1787479200@unitymaywood.org
SUMMARY:SUNDAY SERVICE
DESCRIPTION:Please join us for Sunday Service with Dr. Rev. Bessie Duncan
URL:https://unitymaywood.org/event/sunday-service/2026-08-23/
CATEGORIES:Announcements,Events,Featured Events
END:VEVENT
BEGIN:VEVENT
DTSTART;TZID=America/New_York:20260826T183000
DTEND;TZID=America/New_York:20260826T190000
DTSTAMP:20260424T123753
CREATED:20241217T003333Z
LAST-MODIFIED:20250115T023021Z
UID:10001070-1787769000-1787770800@unitymaywood.org
SUMMARY:Wednesday Night Meditation
DESCRIPTION:Prayer\, Healing & Meditation Service Weekley on (Zoom) at: 6:00PM
URL:https://unitymaywood.org/event/wednesday-night-meditation/2026-08-26/
CATEGORIES:Classes and Workshops
END:VEVENT
BEGIN:VEVENT
DTSTART;TZID=America/New_York:20260826T190000
DTEND;TZID=America/New_York:20260826T203000
DTSTAMP:20260424T123753
CREATED:20260204T155131Z
LAST-MODIFIED:20260204T155141Z
UID:10002703-1787770800-1787776200@unitymaywood.org
SUMMARY:Wednesday Bible Class
DESCRIPTION:FUN WITH THE BIBLE \n\n\n\n\n\n\n\nWe study it for the wonderful information\, instructions for living well and the sense of how people were seen to live then.  \n\n\n\nBut first and foremost there is God’s WORD to enlighten us.  The colorful essence of the period covered in the Bible helps us see the historical inferences. There are amazing stories throughout about courageous women\, men and children.  \n\n\n\nThere is an energy and more DIVINE MESSAGES\, PARABLES and EXPERIENCES of JESUS in “CE”\, the CHRISTIAN ERA of the Bible which we use to call The New Testament. If you still call it that\, come to Bible Class and learn why it changed.  \n\n\n\nWe also take a particularly independent look at the Bible through the writings of our Co-Founder\, Charles Filmore. You talk about fascinating metaphysical interpretations\, it brings another dimension to Class.  \n\n\n\nWell there is much more\, such as personal spiritual growth in this exploration but it would be better understood  if you experience it for yourself.  Join us won’t you. God Bless You. \n\n\n\n“Greater is He who is within you than he who is in the world”. 1 John 4:4 (Berean Study Bible)
URL:https://unitymaywood.org/event/wednesday-bible-class/2026-08-26/
CATEGORIES:Announcements,Classes and Workshops,Events,Featured Events
END:VEVENT
END:VCALENDAR